BEGIN:VCALENDAR
VERSION:2.0
PRODID:-//Lotus Network - ECPv6.15.20//NONSGML v1.0//EN
CALSCALE:GREGORIAN
METHOD:PUBLISH
X-WR-CALNAME:Lotus Network
X-ORIGINAL-URL:https://lotusnetwork.org
X-WR-CALDESC:Events for Lotus Network
REFRESH-INTERVAL;VALUE=DURATION:PT1H
X-Robots-Tag:noindex
X-PUBLISHED-TTL:PT1H
BEGIN:VTIMEZONE
TZID:America/Denver
BEGIN:DAYLIGHT
TZOFFSETFROM:-0700
TZOFFSETTO:-0600
TZNAME:MDT
DTSTART:20250309T090000
END:DAYLIGHT
BEGIN:STANDARD
TZOFFSETFROM:-0600
TZOFFSETTO:-0700
TZNAME:MST
DTSTART:20251102T080000
END:STANDARD
BEGIN:DAYLIGHT
TZOFFSETFROM:-0700
TZOFFSETTO:-0600
TZNAME:MDT
DTSTART:20260308T090000
END:DAYLIGHT
BEGIN:STANDARD
TZOFFSETFROM:-0600
TZOFFSETTO:-0700
TZNAME:MST
DTSTART:20261101T080000
END:STANDARD
BEGIN:DAYLIGHT
TZOFFSETFROM:-0700
TZOFFSETTO:-0600
TZNAME:MDT
DTSTART:20270314T090000
END:DAYLIGHT
BEGIN:STANDARD
TZOFFSETFROM:-0600
TZOFFSETTO:-0700
TZNAME:MST
DTSTART:20271107T080000
END:STANDARD
END:VTIMEZONE
BEGIN:VEVENT
DTSTART;TZID=America/Denver:20260509T140000
DTEND;TZID=America/Denver:20260509T160000
DTSTAMP:20260421T040428
CREATED:20260415T011733Z
LAST-MODIFIED:20260415T033812Z
UID:22486-1778335200-1778342400@lotusnetwork.org
SUMMARY:May 2026 Conversation Salon
DESCRIPTION:Saturday\, May 9th\, 2026 | 2-4 PM MT				\n				\n				\n				\n					Koelbel Library\, 5955 S Holly StCentennial\, CO 80121				\n				\n					\n		\n					\n		\n				\n						\n					\n			\n						\n				\n					This Month: Finding the Courage to Begin Again				\n				\n				\n				\n									Join us for a meaningful Conversation Salon as Seija shares her personal journey from addiction to awakening. Through honesty\, resilience\, and deep reflection\, she will explore what it means to rebuild your life\, reconnect with your authentic self\, and discover that change is always possible. Drawing from both lived experience and her work supporting others through crisis\, Seija offers a powerful perspective on healing\, self-worth\, and the role of community in transformation. This conversation invites women to reflect\, connect\, and be inspired by the possibility of growth at any stage of life. 								\n				\n				\n				\n									In this Conversation Salon\, we will explore: 								\n				\n				\n				\n									  The emotional and practical realities of the journey to sobrietyRebuilding self-worth and rediscovering purposeThe importance of connection and community in healingResilience\, personal transformation\, and hope for what comes next								\n				\n					\n		\n					\n		\n				\n						\n					\n			\n						\n				\n																														\n				\n					\n		\n				\n			\n						\n				\n									Conversation led by Seija Nelson 								\n				\n				\n				\n									Seija is a volunteer victim advocate with the Broomfield Police Department and has been sober since April 10\, 2015. She also mentors women in recovery and continues her mission of supporting others through service in senior living and volunteer work with the Alzheimer’s Association. 								\n				\n					\n		\n					\n		\n				\n						\n					\n			\n						\n				\n									Space is limited.We look forward to sharing this meaningful time with you! 								\n				\n					\n		\n					\n		\n				\n						\n					\n			\n						\n				\n							\n			\n						\n		\n						\n				\n					\n		\n					\n		\n				\n						\n					\n			\n						\n				\n					Register here to save your spot!				\n				\n				\n				\n					Attendance is limited to 15 guests.				\n				\n				\n				\n									Fill in the form below to register for the the upcoming Conversation Salon. Attendance is free. Make sure to fill out the form once for yourself and once again for any guests you plan to bring with you.  								\n				\n					\n		\n					\n		\n				\n						\n					\n			\n						\n				\n								\n		        			\n\n            \n            				\n				\n				\n				\n								\n		        					\n				        				        					\n		        \n\n                 \n \n                        LinkedInThis field is for validation purposes and should be left unchanged.Name(Required)\n                            \n                            \n                                                    \n                                                    First\n                                                \n                            \n                            \n                                                    \n                                                    Last\n                                                \n                            \n                        Email(Required)\n                            \n                        Cell Phone(Required)Have you ever attended a Lotus Network program before?\n								\n								Yes\n							\n								\n								No\n							If yes\, please check all that apply.\n								\n								Bloom and Thrive\n							\n								\n								Conversation Salon\n							\n								\n								Courageous Connections\n							\n								\n								Creative Exhibition\n							\n								\n								Game on Girls\n							\n								\n								Golf Tournament\n							\n								\n								Heart of Volunteering\n							\n								\n								Signature Experience\n							\n								\n								Stepping Out\n							\n								\n								Timely Topics
URL:https://lotusnetwork.org/lotus-event/may-2026-conversation-salon/
LOCATION:Koelbel Library\, 5955 S Holly St\, Centennial\, CO\, 80121​\, United States
CATEGORIES:Conversation Salon
ATTACH;FMTTYPE=image/jpeg:https://lotusnetwork.org/wp-content/uploads/2026/03/Seija.jpeg
END:VEVENT
END:VCALENDAR